BEGIN:VCALENDAR
VERSION:2.0
PRODID:-//Contratero//ES
CALSCALE:GREGORIAN
METHOD:PUBLISH
BEGIN:VEVENT
UID:T-827 (372/20/CAR)@contratero.es
DTSTAMP:20260426T020926Z
DTSTART:20210405T235959
DTEND:20210406T005959
SUMMARY:Cierre: Servicios de mantenimiento de la plataforma para l
DESCRIPTION:Servicios de mantenimiento de la plataforma para la gestión integral de la red de carreteras de la diputación de valencia (GVSIG ROADS) y el desarrollo y mejora de un nuevo geo-portal.\\n\\nOrganismo: Presidencia de la Diputación Provincial de Valencia\\n\\nVer en Contratero: https://contratero.es/contracts/T-827 (372/20/CAR)
URL:https://contratero.es/contracts/T-827 (372/20/CAR)
STATUS:CONFIRMED
BEGIN:VALARM
TRIGGER:-P1D
ACTION:DISPLAY
DESCRIPTION:Recordatorio: Servicios de mantenimiento de 
END:VALARM
END:VEVENT
END:VCALENDAR